BEGIN:VCALENDAR
VERSION:2.0
METHOD:PUBLISH
X-WR-CALNAME:Evolution Martial Arts Events Sessions
X-APPLE-CALENDAR-COLOR:#19a0af
PRODID:-//www.emakarate.com.au:80.com.au//EN
X-WR-TIMEZONE:Australia/Sydney
CALSCALE:GREGORIAN
BEGIN:VTIMEZONE
TZID:Australia/Sydney
BEGIN:STANDARD
TZOFFSETFROM:+1100
RRULE:FREQ=YEARLY;BYMONTH=4;BYDAY=1SU
DTSTART:20080406T030000
TZNAME:AEST
TZOFFSETTO:+1000
END:STANDARD
BEGIN:DAYLIGHT
TZOFFSETFROM:+1000
RRULE:FREQ=YEARLY;BYMONTH=10;BYDAY=1SU
DTSTART:20081005T020000
TZNAME:AEDT
TZOFFSETTO:+1100
END:DAYLIGHT
END:VTIMEZONE
		
	
		
		
		
BEGIN:VEVENT
TRANSP:OPAQUE
UID:3F4C0DE0-0F50-11E9-AC270670A07046E5
DTSTAMP:20190103T230553Z
DESCRIPTION:Tuesday Holiday Sessions at your usual class times at Thornleigh
URL;VALUE=URI:http://www.emakarate.com.au:80/calendar
SEQUENCE:1
SUMMARY:Tuesday Holiday Sessions at your usual class times at Thornleigh
DTSTART;TZID=Australia/Sydney:20190108T160000
DTEND;TZID=Australia/Sydney:20190108T203000
CREATED:20190103T230553Z
END:VEVENT
BEGIN:VEVENT
TRANSP:OPAQUE
UID:8ABD9A40-0F51-11E9-AC270670A07046E5
DTSTAMP:20190103T231509Z
DESCRIPTION:BInspired Workshop at Kirrawee Dojo www.trybooking.com/BAAYA
URL;VALUE=URI:http://www.emakarate.com.au:80/calendar
SEQUENCE:2
SUMMARY:BInspired Workshop at Kirrawee Dojo www.trybooking.com/BAAYA
DTSTART;TZID=Australia/Sydney:20190112T090000
DTEND;TZID=Australia/Sydney:20190112T163000
CREATED:20190103T231509Z
END:VEVENT
BEGIN:VEVENT
TRANSP:OPAQUE
UID:6E4102C0-0F52-11E9-AC270670A07046E5
DTSTAMP:20190103T232130Z
DESCRIPTION:BInspired Workshop at Kirrawee Dojo www.trybooking.com/BAAYA
URL;VALUE=URI:http://www.emakarate.com.au:80/calendar
SEQUENCE:3
SUMMARY:BInspired Workshop at Kirrawee Dojo www.trybooking.com/BAAYA
DTSTART;TZID=Australia/Sydney:20190113T090000
DTEND;TZID=Australia/Sydney:20190113T163000
CREATED:20190103T232130Z
END:VEVENT
BEGIN:VEVENT
TRANSP:OPAQUE
UID:6ACE0E00-0F50-11E9-AC270670A07046E5
DTSTAMP:20190103T230706Z
DESCRIPTION:Tuesday Holiday Sessions at your usual class times at Thornleigh
URL;VALUE=URI:http://www.emakarate.com.au:80/calendar
SEQUENCE:4
SUMMARY:Tuesday Holiday Sessions at your usual class times at Thornleigh
DTSTART;TZID=Australia/Sydney:20190115T160000
DTEND;TZID=Australia/Sydney:20190115T203000
CREATED:20190103T230706Z
END:VEVENT
BEGIN:VEVENT
TRANSP:OPAQUE
UID:79324A10-0F50-11E9-AC270670A07046E5
DTSTAMP:20190103T230730Z
DESCRIPTION:Tuesday Holiday Sessions at your usual class times at Thornleigh
URL;VALUE=URI:http://www.emakarate.com.au:80/calendar
SEQUENCE:5
SUMMARY:Tuesday Holiday Sessions at your usual class times at Thornleigh
DTSTART;TZID=Australia/Sydney:20190122T160000
DTEND;TZID=Australia/Sydney:20190122T203000
CREATED:20190103T230730Z
END:VEVENT
BEGIN:VEVENT
TRANSP:OPAQUE
UID:87F59610-0F50-11E9-AC270670A07046E5
DTSTAMP:20190103T230755Z
DESCRIPTION:Regular Timetable Term 1 Commences
URL;VALUE=URI:http://www.emakarate.com.au:80/calendar
SEQUENCE:6
SUMMARY:Regular Timetable Term 1 Commences
DTSTART;TZID=Australia/Sydney:20190129T160000
DTEND;TZID=Australia/Sydney:20190129T203000
CREATED:20190103T230755Z
END:VEVENT
BEGIN:VEVENT
TRANSP:OPAQUE
UID:CD1C45B0-10E8-11E9-AC270670A07046E5
DTSTAMP:20190105T235023Z
DESCRIPTION:Sydney Shotokan Gasshuku Narrabeen 1-3 March
URL;VALUE=URI:http://www.emakarate.com.au:80/calendar
SEQUENCE:7
SUMMARY:Sydney Shotokan Gasshuku Narrabeen 1-3 March
DTSTART;TZID=Australia/Sydney:20190301T190000
DTEND;TZID=Australia/Sydney:20190303T170000
CREATED:20190105T235023Z
END:VEVENT
BEGIN:VEVENT
TRANSP:OPAQUE
UID:D00B2630-0F51-11E9-AC270670A07046E5
DTSTAMP:20190103T231705Z
DESCRIPTION:Thornleigh Dojo Unavailable due to Maintenance - No Monday Boxing
URL;VALUE=URI:http://www.emakarate.com.au:80/calendar
SEQUENCE:8
SUMMARY:Thornleigh Dojo Unavailable due to Maintenance - No Monday Boxing
DTSTART;TZID=Australia/Sydney:20190311T190000
DTEND;TZID=Australia/Sydney:20190311T210000
CREATED:20190103T231705Z
END:VEVENT
BEGIN:VEVENT
TRANSP:OPAQUE
UID:A183DFE0-0F52-11E9-AC270670A07046E5
DTSTAMP:20190103T232256Z
DESCRIPTION:Thornleigh Dojo Unavailable due to Maintenance - No Karate
URL;VALUE=URI:http://www.emakarate.com.au:80/calendar
SEQUENCE:9
SUMMARY:Thornleigh Dojo Unavailable due to Maintenance - No Karate
DTSTART;TZID=Australia/Sydney:20190312T160000
DTEND;TZID=Australia/Sydney:20190312T203000
CREATED:20190103T232256Z
END:VEVENT
BEGIN:VEVENT
TRANSP:OPAQUE
UID:BBC5AD20-0F52-11E9-AC270670A07046E5
DTSTAMP:20190103T232341Z
DESCRIPTION:EMA Social Night at Penno Pub from 5pm for Karate Kidz; 7pm Shoto Club
URL;VALUE=URI:http://www.emakarate.com.au:80/calendar
SEQUENCE:10
SUMMARY:EMA Social Night at Penno Pub from 5pm for Karate Kidz; 7pm Shoto Club
DTSTART;TZID=Australia/Sydney:20190312T170000
DTEND;TZID=Australia/Sydney:20190312T203000
CREATED:20190103T232341Z
END:VEVENT
BEGIN:VEVENT
TRANSP:OPAQUE
UID:66B88700-2E63-11E9-AC270670A07046E5
DTSTAMP:20190212T121023Z
DESCRIPTION:ASKL Workshop Term 1 Pennant Hills High School
URL;VALUE=URI:http://www.emakarate.com.au:80/calendar
SEQUENCE:11
SUMMARY:ASKL Workshop Term 1 Pennant Hills High School
DTSTART;TZID=Australia/Sydney:20190406T100000
DTEND;TZID=Australia/Sydney:20190406T160000
CREATED:20190212T121023Z
END:VEVENT
BEGIN:VEVENT
TRANSP:OPAQUE
UID:9E297D70-2E63-11E9-AC270670A07046E5
DTSTAMP:20190212T121156Z
DESCRIPTION:ASKL Competition Term 1 Pennant Hills High School
URL;VALUE=URI:http://www.emakarate.com.au:80/calendar
SEQUENCE:12
SUMMARY:ASKL Competition Term 1 Pennant Hills High School
DTSTART;TZID=Australia/Sydney:20190407T090000
DTEND;TZID=Australia/Sydney:20190407T170000
CREATED:20190212T121156Z
END:VEVENT
BEGIN:VEVENT
TRANSP:OPAQUE
UID:D3549D00-10DF-11E9-AC270670A07046E5
DTSTAMP:20190105T224608Z
DESCRIPTION:Preschool Grading 4-5pm; Karate Kidz Grading 5-7pm. Thornleigh Dojo. No Regular Class.
URL;VALUE=URI:http://www.emakarate.com.au:80/calendar
SEQUENCE:13
SUMMARY:Preschool Grading 4-5pm; Karate Kidz Grading 5-7pm. Thornleigh Dojo. No Regular Class.
DTSTART;TZID=Australia/Sydney:20190409T160000
DTEND;TZID=Australia/Sydney:20190409T190000
CREATED:20190105T224608Z
END:VEVENT
BEGIN:VEVENT
TRANSP:OPAQUE
UID:01F960F0-10E0-11E9-AC270670A07046E5
DTSTAMP:20190105T224726Z
DESCRIPTION:Cadets Grading 5-7pm; Shoto Club Grading 7:30-9pm. Pennant Hills Dojo. No Regular Class.
URL;VALUE=URI:http://www.emakarate.com.au:80/calendar
SEQUENCE:14
SUMMARY:Cadets Grading 5-7pm; Shoto Club Grading 7:30-9pm. Pennant Hills Dojo. No Regular Class.
DTSTART;TZID=Australia/Sydney:20190411T170000
DTEND;TZID=Australia/Sydney:20190411T210000
CREATED:20190105T224726Z
END:VEVENT
BEGIN:VEVENT
TRANSP:OPAQUE
UID:9AF2E880-10E0-11E9-AC270670A07046E5
DTSTAMP:20190105T225143Z
DESCRIPTION:No Sunday Kata - Easter Long Weekend
URL;VALUE=URI:http://www.emakarate.com.au:80/calendar
SEQUENCE:15
SUMMARY:No Sunday Kata - Easter Long Weekend
DTSTART;TZID=Australia/Sydney:20190421T170000
DTEND;TZID=Australia/Sydney:20190421T200000
CREATED:20190105T225143Z
END:VEVENT
BEGIN:VEVENT
TRANSP:OPAQUE
UID:CDFBF0F0-10E0-11E9-AC270670A07046E5
DTSTAMP:20190105T225309Z
DESCRIPTION:No Training - Easter Monday
URL;VALUE=URI:http://www.emakarate.com.au:80/calendar
SEQUENCE:16
SUMMARY:No Training - Easter Monday
DTSTART;TZID=Australia/Sydney:20190422T190000
DTEND;TZID=Australia/Sydney:20190422T210000
CREATED:20190105T225309Z
END:VEVENT
BEGIN:VEVENT
TRANSP:OPAQUE
UID:1A0DAA60-10E1-11E9-AC270670A07046E5
DTSTAMP:20190105T225516Z
DESCRIPTION:Mothers Day - No Sunday Kata
URL;VALUE=URI:http://www.emakarate.com.au:80/calendar
SEQUENCE:17
SUMMARY:Mothers Day - No Sunday Kata
DTSTART;TZID=Australia/Sydney:20190512T170000
DTEND;TZID=Australia/Sydney:20190512T200000
CREATED:20190105T225516Z
END:VEVENT
BEGIN:VEVENT
TRANSP:OPAQUE
UID:5137FAE0-10E1-11E9-AC270670A07046E5
DTSTAMP:20190105T225649Z
DESCRIPTION:No Sunday Kata - Queens Birthday Long Weekend
URL;VALUE=URI:http://www.emakarate.com.au:80/calendar
SEQUENCE:18
SUMMARY:No Sunday Kata - Queens Birthday Long Weekend
DTSTART;TZID=Australia/Sydney:20190609T170000
DTEND;TZID=Australia/Sydney:20190609T200000
CREATED:20190105T225649Z
END:VEVENT
BEGIN:VEVENT
TRANSP:OPAQUE
UID:6CB04820-10E8-11E9-AC270670A07046E5
DTSTAMP:20190105T234741Z
DESCRIPTION:No Monday Sessions - Queens Birthday Holiday
URL;VALUE=URI:http://www.emakarate.com.au:80/calendar
SEQUENCE:19
SUMMARY:No Monday Sessions - Queens Birthday Holiday
DTSTART;TZID=Australia/Sydney:20190610T170000
DTEND;TZID=Australia/Sydney:20190610T210000
CREATED:20190105T234741Z
END:VEVENT
BEGIN:VEVENT
TRANSP:OPAQUE
UID:6F265560-10E1-11E9-AC270670A07046E5
DTSTAMP:20190105T225739Z
DESCRIPTION:Preschool Grading 4-5pm; Karate Kidz Grading 5-7pm. Thornleigh Dojo. No Regular Class.
URL;VALUE=URI:http://www.emakarate.com.au:80/calendar
SEQUENCE:20
SUMMARY:Preschool Grading 4-5pm; Karate Kidz Grading 5-7pm. Thornleigh Dojo. No Regular Class.
DTSTART;TZID=Australia/Sydney:20190702T225700
DTEND;TZID=Australia/Sydney:20190702T225700
CREATED:20190105T225739Z
END:VEVENT
BEGIN:VEVENT
TRANSP:OPAQUE
UID:8EC8EF90-10E1-11E9-AC270670A07046E5
DTSTAMP:20190105T225832Z
DESCRIPTION:Cadets Grading 5-7pm; Shoto Club Grading 7:30-9pm. Pennant Hills Dojo. No Regular Class.
URL;VALUE=URI:http://www.emakarate.com.au:80/calendar
SEQUENCE:21
SUMMARY:Cadets Grading 5-7pm; Shoto Club Grading 7:30-9pm. Pennant Hills Dojo. No Regular Class.
DTSTART;TZID=Australia/Sydney:20190704T170000
DTEND;TZID=Australia/Sydney:20190704T210000
CREATED:20190105T225832Z
END:VEVENT
BEGIN:VEVENT
TRANSP:OPAQUE
UID:46575920-3384-11E9-AC270670A07046E5
DTSTAMP:20190219T004811Z
DESCRIPTION:ASKL Workshop Term 3 Pennant Hills High School
URL;VALUE=URI:http://www.emakarate.com.au:80/calendar
SEQUENCE:22
SUMMARY:ASKL Workshop Term 3 Pennant Hills High School
DTSTART;TZID=Australia/Sydney:20190727T100000
DTEND;TZID=Australia/Sydney:20190727T160000
CREATED:20190219T004811Z
END:VEVENT
BEGIN:VEVENT
TRANSP:OPAQUE
UID:67003FC0-3384-11E9-AC270670A07046E5
DTSTAMP:20190219T004905Z
DESCRIPTION:ASKL Comp Term 3 Pennant Hills High School
URL;VALUE=URI:http://www.emakarate.com.au:80/calendar
SEQUENCE:23
SUMMARY:ASKL Comp Term 3 Pennant Hills High School
DTSTART;TZID=Australia/Sydney:20190728T090000
DTEND;TZID=Australia/Sydney:20190728T170000
CREATED:20190219T004905Z
END:VEVENT
BEGIN:VEVENT
TRANSP:OPAQUE
UID:B7633910-10E1-11E9-AC270670A07046E5
DTSTAMP:20190105T225940Z
DESCRIPTION:Australian Karate Federation National Championships 3-days Hobart, TAS
URL;VALUE=URI:http://www.emakarate.com.au:80/calendar
SEQUENCE:24
SUMMARY:Australian Karate Federation National Championships 3-days Hobart, TAS
DTSTART;TZID=Australia/Sydney:20190802T090000
DTEND;TZID=Australia/Sydney:20190804T150000
CREATED:20190105T225940Z
END:VEVENT
BEGIN:VEVENT
TRANSP:OPAQUE
UID:D946C290-10E1-11E9-AC270670A07046E5
DTSTAMP:20190105T230037Z
DESCRIPTION:No Sunday Kata due to AKF Nationals in Tasmania
URL;VALUE=URI:http://www.emakarate.com.au:80/calendar
SEQUENCE:25
SUMMARY:No Sunday Kata due to AKF Nationals in Tasmania
DTSTART;TZID=Australia/Sydney:20190804T170000
DTEND;TZID=Australia/Sydney:20190804T200000
CREATED:20190105T230037Z
END:VEVENT
BEGIN:VEVENT
TRANSP:OPAQUE
UID:6BAE7740-10E2-11E9-AC270670A07046E5
DTSTAMP:20190105T230443Z
DESCRIPTION:Shoto Club Gasshuku Okinawa Tokyo Mito 17-31 Aug TBC
URL;VALUE=URI:http://www.emakarate.com.au:80/calendar
SEQUENCE:26
SUMMARY:Shoto Club Gasshuku Okinawa Tokyo Mito 17-31 Aug TBC
DTSTART;TZID=Australia/Sydney:20190817T090000
DTEND;TZID=Australia/Sydney:20190831T170000
CREATED:20190105T230443Z
END:VEVENT
BEGIN:VEVENT
TRANSP:OPAQUE
UID:328C6AE0-10E1-11E9-AC270670A07046E5
DTSTAMP:20190105T225557Z
DESCRIPTION:Fathers Day - No Sunday Kata
URL;VALUE=URI:http://www.emakarate.com.au:80/calendar
SEQUENCE:27
SUMMARY:Fathers Day - No Sunday Kata
DTSTART;TZID=Australia/Sydney:20190901T170000
DTEND;TZID=Australia/Sydney:20190901T200000
CREATED:20190105T225557Z
END:VEVENT
BEGIN:VEVENT
TRANSP:OPAQUE
UID:B2F70FE0-10E2-11E9-AC270670A07046E5
DTSTAMP:20190105T230642Z
DESCRIPTION:Preschool Grading 4-5pm; Karate Kidz 5-7pm. Thornleigh Dojo. No Regular Class.
URL;VALUE=URI:http://www.emakarate.com.au:80/calendar
SEQUENCE:28
SUMMARY:Preschool Grading 4-5pm; Karate Kidz 5-7pm. Thornleigh Dojo. No Regular Class.
DTSTART;TZID=Australia/Sydney:20190924T160000
DTEND;TZID=Australia/Sydney:20190924T190000
CREATED:20190105T230642Z
END:VEVENT
BEGIN:VEVENT
TRANSP:OPAQUE
UID:D13B5290-10E2-11E9-AC270670A07046E5
DTSTAMP:20190105T230733Z
DESCRIPTION:Cadets Grading 5-7pm; Shoto Club Grading 7:30-9pm. Pennant Hills Dojo. No Regular Class.
URL;VALUE=URI:http://www.emakarate.com.au:80/calendar
SEQUENCE:29
SUMMARY:Cadets Grading 5-7pm; Shoto Club Grading 7:30-9pm. Pennant Hills Dojo. No Regular Class.
DTSTART;TZID=Australia/Sydney:20190926T170000
DTEND;TZID=Australia/Sydney:20190926T210000
CREATED:20190105T230733Z
END:VEVENT
BEGIN:VEVENT
TRANSP:OPAQUE
UID:F66F3F90-10E2-11E9-AC270670A07046E5
DTSTAMP:20190105T230835Z
DESCRIPTION:No Sunday Kata due to Labour Day Long Weekend
URL;VALUE=URI:http://www.emakarate.com.au:80/calendar
SEQUENCE:30
SUMMARY:No Sunday Kata due to Labour Day Long Weekend
DTSTART;TZID=Australia/Sydney:20191006T170000
DTEND;TZID=Australia/Sydney:20191006T200000
CREATED:20190105T230835Z
END:VEVENT
BEGIN:VEVENT
TRANSP:OPAQUE
UID:119419D0-10E3-11E9-AC270670A07046E5
DTSTAMP:20190105T230921Z
DESCRIPTION:Halloween Dress Up at the Dojo - at your usual class times.
URL;VALUE=URI:http://www.emakarate.com.au:80/calendar
SEQUENCE:31
SUMMARY:Halloween Dress Up at the Dojo - at your usual class times.
DTSTART;TZID=Australia/Sydney:20191031T160000
DTEND;TZID=Australia/Sydney:20191031T203000
CREATED:20190105T230921Z
END:VEVENT
BEGIN:VEVENT
TRANSP:OPAQUE
UID:47AD4870-10E3-11E9-AC270670A07046E5
DTSTAMP:20190105T231052Z
DESCRIPTION:Melbourne Cup lucky door prizes at the dojo
URL;VALUE=URI:http://www.emakarate.com.au:80/calendar
SEQUENCE:32
SUMMARY:Melbourne Cup lucky door prizes at the dojo
DTSTART;TZID=Australia/Sydney:20191105T160000
DTEND;TZID=Australia/Sydney:20191105T203000
CREATED:20190105T231052Z
END:VEVENT
BEGIN:VEVENT
TRANSP:OPAQUE
UID:7870CDB0-10E3-11E9-AC270670A07046E5
DTSTAMP:20190105T231214Z
DESCRIPTION:Cadets Grading 5-7pm; Shoto Club Grading 7:30-9pm. Pennant Hills Dojo. No Regular Class.
URL;VALUE=URI:http://www.emakarate.com.au:80/calendar
SEQUENCE:33
SUMMARY:Cadets Grading 5-7pm; Shoto Club Grading 7:30-9pm. Pennant Hills Dojo. No Regular Class.
DTSTART;TZID=Australia/Sydney:20191212T170000
DTEND;TZID=Australia/Sydney:20191212T210000
CREATED:20190105T231214Z
END:VEVENT
BEGIN:VEVENT
TRANSP:OPAQUE
UID:DFE04BB0-10E3-11E9-AC270670A07046E5
DTSTAMP:20190105T231507Z
DESCRIPTION:EMA Christmas Party and Awards Day. Fagan Park, Galston. Carrs Rd entrance.
URL;VALUE=URI:http://www.emakarate.com.au:80/calendar
SEQUENCE:34
SUMMARY:EMA Christmas Party and Awards Day. Fagan Park, Galston. Carrs Rd entrance.
DTSTART;TZID=Australia/Sydney:20191215T110000
DTEND;TZID=Australia/Sydney:20191215T160000
CREATED:20190105T231507Z
END:VEVENT
BEGIN:VEVENT
TRANSP:OPAQUE
UID:9847E560-10E3-11E9-AC270670A07046E5
DTSTAMP:20190105T231307Z
DESCRIPTION:Preschool Grading 4-5pm; Karate Kidz Grading 5-7pm. Thornleigh Dojo. No Regular Class.
URL;VALUE=URI:http://www.emakarate.com.au:80/calendar
SEQUENCE:35
SUMMARY:Preschool Grading 4-5pm; Karate Kidz Grading 5-7pm. Thornleigh Dojo. No Regular Class.
DTSTART;TZID=Australia/Sydney:20191217T160000
DTEND;TZID=Australia/Sydney:20191217T190000
CREATED:20190105T231307Z
END:VEVENT
BEGIN:VEVENT
TRANSP:OPAQUE
UID:13071550-10E4-11E9-AC270670A07046E5
DTSTAMP:20190105T231633Z
DESCRIPTION:EMA Fun Day and final session of 2019 5-7pm all ages and grades. Pennant Hills Dojo.
URL;VALUE=URI:http://www.emakarate.com.au:80/calendar
SEQUENCE:36
SUMMARY:EMA Fun Day and final session of 2019 5-7pm all ages and grades. Pennant Hills Dojo.
DTSTART;TZID=Australia/Sydney:20191219T170000
DTEND;TZID=Australia/Sydney:20191219T190000
CREATED:20190105T231633Z
END:VEVENT
		
	
		
		
		
END:VCALENDAR